BEGIN:VCALENDAR
VERSION:2.0
PRODID:-//Suomen vanhan musiikin liitto ry - ECPv6.15.17.1//NONSGML v1.0//EN
CALSCALE:GREGORIAN
METHOD:PUBLISH
X-WR-CALNAME:Suomen vanhan musiikin liitto ry
X-ORIGINAL-URL:https://svamuli.fi
X-WR-CALDESC:Tapahtumat Suomen vanhan musiikin liitto ry
REFRESH-INTERVAL;VALUE=DURATION:PT1H
X-Robots-Tag:noindex
X-PUBLISHED-TTL:PT1H
BEGIN:VTIMEZONE
TZID:Europe/Helsinki
BEGIN:DAYLIGHT
TZOFFSETFROM:+0200
TZOFFSETTO:+0300
TZNAME:EEST
DTSTART:20170326T010000
END:DAYLIGHT
BEGIN:STANDARD
TZOFFSETFROM:+0300
TZOFFSETTO:+0200
TZNAME:EET
DTSTART:20171029T010000
END:STANDARD
BEGIN:DAYLIGHT
TZOFFSETFROM:+0200
TZOFFSETTO:+0300
TZNAME:EEST
DTSTART:20180325T010000
END:DAYLIGHT
BEGIN:STANDARD
TZOFFSETFROM:+0300
TZOFFSETTO:+0200
TZNAME:EET
DTSTART:20181028T010000
END:STANDARD
BEGIN:DAYLIGHT
TZOFFSETFROM:+0200
TZOFFSETTO:+0300
TZNAME:EEST
DTSTART:20190331T010000
END:DAYLIGHT
BEGIN:STANDARD
TZOFFSETFROM:+0300
TZOFFSETTO:+0200
TZNAME:EET
DTSTART:20191027T010000
END:STANDARD
END:VTIMEZONE
BEGIN:VEVENT
DTSTART;TZID=Europe/Helsinki:20180529T190000
DTEND;TZID=Europe/Helsinki:20180529T200000
DTSTAMP:20260426T062849
CREATED:20180522T065314Z
LAST-MODIFIED:20180522T065314Z
UID:1622-1527620400-1527624000@svamuli.fi
SUMMARY:Iltamusiikki Pyhän Sydämen kappelissa
DESCRIPTION:Johanna Leponiemi\, barokkiviulu ja Petteri Pitko\, cembalo.\nFontana – Biber – Rebel – C.Ph.E. Bach \nKonsertti esittelee rikkaasti ja monipuolisesti viulu-cembalomusiikin historiallista kehitystä eri puolilla Eurooppaa vuosien 1600-1750 välillä. Italialaisen musiikin melodisuudesta ja kepeydestä siirrytään naturalistisen ilmeikkääseen luonnonkuvaukseen ja ranskalaisen tyylitaituruuden kautta klassisen kamarimusisoinnin alkulähteille. Konsertti kuuluu Novian barokkimurujen opinnäytekonserttien sarjaan.
URL:https://svamuli.fi/t/iltamusiikki-pyhan-sydamen-kappelissa/
LOCATION:Pyhän Sydämen kappeli\, Kirstinkatu 1\, 00530 Helsinki\, Helsinki\, Suomi
END:VEVENT
END:VCALENDAR